BEGIN:VCALENDAR
VERSION:2.0
PRODID:-//STADTKULTUR HAMBURG//kultur-hamburg.de///DE
CALSCALE:GREGORIAN
BEGIN:VEVENT
X-WR-TIMEZONE:Europe/Berlin
DTSTART:20190903T160000
DTEND:20190903T190000
LOCATION:Kulturladen St.Georg e.V. \, Alexanderstr.16 \, 20099 Hamburg
DTSTAMP:20260423T000909
SUMMARY:Open Art Studio
URL;VALUE=URI:https://www.kultur-hamburg.de/veranstaltungen/open-art-studio-460514
DESCRIPTION:Wir stellen Material und ein professioneller Künstler hilft euch beim realisieren eurer Ideen!
UID:154fd451e3e0c04985b8da4b19080d7f@kulturhamburg
END:VEVENT
END:VCALENDAR