BEGIN:VCALENDAR
VERSION:2.0
PRODID:-//STADTKULTUR HAMBURG//kultur-hamburg.de///DE
CALSCALE:GREGORIAN
BEGIN:VEVENT
X-WR-TIMEZONE:Europe/Berlin
DTSTART:20190910T160000
DTEND:20190910T190000
LOCATION:Kulturladen St.Georg e.V. \, Alexanderstr.16 \, 20099 Hamburg
DTSTAMP:20260423T121621
SUMMARY:Open Art Studio
URL;VALUE=URI:https://www.kultur-hamburg.de/veranstaltungen/open-art-studio-460515
DESCRIPTION:Wir stellen Material und ein professioneller Künstler hilft euch beim realisieren eurer Ideen!
UID:13c492e8508b233a719357eb1b031737@kulturhamburg
END:VEVENT
END:VCALENDAR