BEGIN:VCALENDAR
VERSION:2.0
PRODID:-//STADTKULTUR HAMBURG//kultur-hamburg.de///DE
CALSCALE:GREGORIAN
BEGIN:VEVENT
X-WR-TIMEZONE:Europe/Berlin
DTSTART:20190917T160000
DTEND:20190917T180000
LOCATION:Kulturladen St.Georg e.V. \, Alexanderstr.16 \, 20099 Hamburg
DTSTAMP:20260423T230302
SUMMARY:Open Art Studio
URL;VALUE=URI:https://www.kultur-hamburg.de/veranstaltungen/open-art-studio-460516
DESCRIPTION:Wir stellen Material und ein professioneller Künstler hilft euch beim realisieren eurer Ideen!
UID:6fc3752488fb6f606f865c8d2765a82d@kulturhamburg
END:VEVENT
END:VCALENDAR