BEGIN:VCALENDAR
VERSION:2.0
PRODID:-//STADTKULTUR HAMBURG//kultur-hamburg.de///DE
CALSCALE:GREGORIAN
BEGIN:VEVENT
X-WR-TIMEZONE:Europe/Berlin
DTSTART:20190920T120000
DTEND:20190920T230000
LOCATION:Hamburg \,  \,  
DTSTAMP:20260424T035858
SUMMARY:Die Zinnschmelze streikt!
URL;VALUE=URI:https://www.kultur-hamburg.de/veranstaltungen/die-zinnschmelze-streikt!-460637
DESCRIPTION:Aufruf zum globalen Klimastreik.
UID:cc48dc090344e420acbf012be3b0f444@kulturhamburg
END:VEVENT
END:VCALENDAR