BEGIN:VCALENDAR
VERSION:2.0
PRODID:-//STADTKULTUR HAMBURG//kultur-hamburg.de///DE
CALSCALE:GREGORIAN
BEGIN:VEVENT
X-WR-TIMEZONE:Europe/Berlin
DTSTART:20190920T190000
DTEND:20190920T210000
LOCATION:suedkultur \, Mengestraße \, 21107 Hamburg
DTSTAMP:20260424T040604
SUMMARY:Dielensound Festival 2019 / Tag 1: Tom Ende (Indie Rock) / Ice cream for crow (Electronica / Soul) / Rebecca Lou (Punk)
URL;VALUE=URI:https://www.kultur-hamburg.de/veranstaltungen/dielensound-festival-2019--tag-1-tom-ende-indie-rock--ice-cream-for-crow-electronica--soul--rebecca-lou-punk-460940
DESCRIPTION:Zwei Tage Kapellenkonzerte in Wilhelmsburg 
Freitag, 20. Sept. 2019

17.30	Bar / foodtruck / DJ
19.0...
UID:7abcee78f6461ca4d294cd164b098f68@kulturhamburg
END:VEVENT
END:VCALENDAR