BEGIN:VCALENDAR
VERSION:2.0
PRODID:-//STADTKULTUR HAMBURG//kultur-hamburg.de///DE
CALSCALE:GREGORIAN
BEGIN:VEVENT
X-WR-TIMEZONE:Europe/Berlin
DTSTART:20190921T190000
DTEND:20190921T210000
LOCATION:suedkultur \, z.B. Hautpstraße 10 \,  Hamburg
DTSTAMP:20260424T052045
SUMMARY:Deichdielen Festival 2019 / Tag 2: Neopit Pilski (Indie Rock) / Come out fighting (Hardcore Punk / USA) / Me and my two horses (Experimental Rock) / Sheep on an tree (Punk Rock)
URL;VALUE=URI:https://www.kultur-hamburg.de/veranstaltungen/deichdielen-festival-2019--tag-2-neopit-pilski-indie-rock--come-out-fighting-hardcore-punk--usa--me-and-my-two-horses-experimental-rock--sheep-on-an-tree-punk-rock-460941
DESCRIPTION:Zwei Tage Kapellenkonzerte in Wilhelmsburg 

Sonnabend, 21. Sept 2019


19.00 Neopit Pilski (Indie R...
UID:6394a548f90941eefc5e36dcc27c8051@kulturhamburg
END:VEVENT
END:VCALENDAR