BEGIN:VCALENDAR
VERSION:2.0
PRODID:-//STADTKULTUR HAMBURG//kultur-hamburg.de///DE
CALSCALE:GREGORIAN
BEGIN:VEVENT
X-WR-TIMEZONE:Europe/Berlin
DTSTART:20191224T230000
DTEND:20191225T010000
LOCATION:LOLA Kulturzentrum \, Lohbrügger Landstraße 8 \, 21031 Hamburg
DTSTAMP:20260422T023210
SUMMARY:XMAS DANCE
URL;VALUE=URI:https://www.kultur-hamburg.de/veranstaltungen/xmas-dance-460999
DESCRIPTION:Weihnachtsparty mit DJ Benny
UID:b6d021d4c3cc5fae7556722b9dbdafed@kulturhamburg
END:VEVENT
END:VCALENDAR