BEGIN:VCALENDAR
VERSION:2.0
PRODID:-//STADTKULTUR HAMBURG//kultur-hamburg.de///DE
CALSCALE:GREGORIAN
BEGIN:VEVENT
X-WR-TIMEZONE:Europe/Berlin
DTSTART:20190921T110000
DTEND:20190921T160000
LOCATION:Horner Freiheit \, Am Gojenboom 46 \, 22111 Hamburg
DTSTAMP:20260424T052045
SUMMARY:Generationentag
URL;VALUE=URI:https://www.kultur-hamburg.de/veranstaltungen/generationentag-461286
DESCRIPTION:zum 5. Mal findet der große Generationentag in Horn statt.
UID:c32460bd1b7b318b25465b516c75b561@kulturhamburg
END:VEVENT
END:VCALENDAR