BEGIN:VCALENDAR
VERSION:2.0
PRODID:-//STADTKULTUR HAMBURG//kultur-hamburg.de///DE
CALSCALE:GREGORIAN
BEGIN:VEVENT
X-WR-TIMEZONE:Europe/Berlin
DTSTART:20190920T180000
DTEND:20190920T210000
LOCATION:Kulturladen St.Georg e.V. \, Alexanderstr.16 \, 20099 Hamburg
DTSTAMP:20260424T040029
SUMMARY:60, 70, 80 TANZ ICH
URL;VALUE=URI:https://www.kultur-hamburg.de/veranstaltungen/60-70-80-tanz-ich-461412
DESCRIPTION:Im Veranstaltungssaal des Hartwig Hesse-Quartiers, Alexanderstraße 31
Beim ungezwungenen ,,Schwoofen für alle“ darf die Generation 60+ so richtig loslegen, DJ Karsten spielt Rock, Bossa Nova, Klassiker und Latino-Musik. Der bunt gemischte Musikstil verzaubert jeden, die Tanzfläche ist groß und steht Einzeltänzern sowie auch Paaren zur Verfügung.
UID:91b331b41d6ce160901bbddb5819a3d9@kulturhamburg
END:VEVENT
END:VCALENDAR