BEGIN:VCALENDAR
VERSION:2.0
PRODID:-//STADTKULTUR HAMBURG//kultur-hamburg.de///DE
CALSCALE:GREGORIAN
BEGIN:VEVENT
X-WR-TIMEZONE:Europe/Berlin
DTSTART:20191219T200000
DTEND:20191219T220000
LOCATION:LOLA Kulturzentrum \, Lohbrügger Landstraße 8 \, 21031 Hamburg
DTSTAMP:20260422T103203
SUMMARY:Anne Bille
URL;VALUE=URI:https://www.kultur-hamburg.de/veranstaltungen/anne-bille-462077
DESCRIPTION:Weihnaxshow
UID:0a9a9c2754a75000130fc4e55e7db5c3@kulturhamburg
END:VEVENT
END:VCALENDAR