BEGIN:VCALENDAR
VERSION:2.0
PRODID:-//STADTKULTUR HAMBURG//kultur-hamburg.de///DE
CALSCALE:GREGORIAN
BEGIN:VEVENT
X-WR-TIMEZONE:Europe/Berlin
DTSTART:20191219T110000
DTEND:20191219T130000
LOCATION:Lola Rogge Schule \, Landwehr 11-13 \, 22087 Hamburg
DTSTAMP:20260422T103047
SUMMARY:LOLA ROGGE SCHULE: EINBLICK IN UNSERE ARBEIT
URL;VALUE=URI:https://www.kultur-hamburg.de/veranstaltungen/lola-rogge-schule-einblick-in-unsere-arbeit-465727
DESCRIPTION:UpTanzen - Kostet nichts, macht Spaß!
UID:efc97fe4a19b09499e3dbfa44f34d8cf@kulturhamburg
END:VEVENT
END:VCALENDAR