BEGIN:VCALENDAR
VERSION:2.0
PRODID:-//STADTKULTUR HAMBURG//kultur-hamburg.de///DE
CALSCALE:GREGORIAN
BEGIN:VEVENT
X-WR-TIMEZONE:Europe/Berlin
DTSTART:20191217T100000
DTEND:20191217T110000
LOCATION:Kultur Palast Hamburg \, Öjendorfer Weg 30a \, 22119 Hamburg
DTSTAMP:20260424T145400
SUMMARY:Die Zauberflöte
URL;VALUE=URI:https://www.kultur-hamburg.de/veranstaltungen/die-zauberfloete-466221
DESCRIPTION:Kinderoper für Kinder ab 4 Jahren und Grundschulalter
UID:e143ca4f27c76742a6730a62e3e84870@kulturhamburg
END:VEVENT
END:VCALENDAR