BEGIN:VCALENDAR
VERSION:2.0
PRODID:-//STADTKULTUR HAMBURG//kultur-hamburg.de///DE
CALSCALE:GREGORIAN
BEGIN:VEVENT
X-WR-TIMEZONE:Europe/Berlin
DTSTART:20191220T200000
DTEND:20191220T220000
LOCATION:Goldbekhaus \, Moorfuhrtweg 9 \, 22301 Hamburg
DTSTAMP:20260422T085355
SUMMARY:Die Spieler: Die Impro-Weihnachtsshow
URL;VALUE=URI:https://www.kultur-hamburg.de/veranstaltungen/die-spieler-die-impro-weihnachtsshow-467271
DESCRIPTION:Alle Jahre wieder: Improvisationstheater mit Zimtsternenduft!
UID:0c1df1d0001a9c30096b3e5d35c1fa4e@kulturhamburg
END:VEVENT
END:VCALENDAR