BEGIN:VCALENDAR
VERSION:2.0
PRODID:-//STADTKULTUR HAMBURG//kultur-hamburg.de///DE
CALSCALE:GREGORIAN
BEGIN:VEVENT
X-WR-TIMEZONE:Europe/Berlin
DTSTART:20191220T220000
DTEND:20191221T020000
LOCATION:Goldbekhaus \, Moorfuhrtweg 9 \, 22301 Hamburg
DTSTAMP:20260422T083750
SUMMARY:Weihnachts-Milonga
URL;VALUE=URI:https://www.kultur-hamburg.de/veranstaltungen/weihnachts-milonga-467272
DESCRIPTION:Party Tango Argentino!
UID:4000857662d13cfb7d3097d8e2a53706@kulturhamburg
END:VEVENT
END:VCALENDAR