BEGIN:VCALENDAR
VERSION:2.0
PRODID:-//STADTKULTUR HAMBURG//kultur-hamburg.de///DE
CALSCALE:GREGORIAN
BEGIN:VEVENT
X-WR-TIMEZONE:Europe/Berlin
DTSTART:20191221T203000
DTEND:20191221T223000
LOCATION:Goldbekhaus \, Moorfuhrtweg 9 \, 22301 Hamburg
DTSTAMP:20260422T072210
SUMMARY:Evantgarde: Bling Blang | Konzert
URL;VALUE=URI:https://www.kultur-hamburg.de/veranstaltungen/evantgarde-bling-blang--konzert-467273
DESCRIPTION:
UID:71302f3c5564cc6ca3ac900058bf4db8@kulturhamburg
END:VEVENT
END:VCALENDAR