BEGIN:VCALENDAR
VERSION:2.0
PRODID:-//STADTKULTUR HAMBURG//kultur-hamburg.de///DE
CALSCALE:GREGORIAN
BEGIN:VEVENT
X-WR-TIMEZONE:Europe/Berlin
DTSTART:20191222T200000
DTEND:20191222T220000
LOCATION:Goldbekhaus \, Moorfuhrtweg 9 \, 22301 Hamburg
DTSTAMP:20260422T055050
SUMMARY:CANAN UZERLİ & BAND: İÇTEN GELEN SES–DIE STIMME AUS DEM INNEREN | Konzert
URL;VALUE=URI:https://www.kultur-hamburg.de/veranstaltungen/canan-uzerl-&-band-ten-gelen-sesdie-stimme-aus-dem-inneren--konzert-467274
DESCRIPTION:Zwischen Orient und Okzident, zwischen Chanson und Pop und zwischen sinnlicher Melancholie und kraftvoller Rhythmik.
UID:f26e835ddfde48ad83352829e7dd9bda@kulturhamburg
END:VEVENT
END:VCALENDAR