BEGIN:VCALENDAR
VERSION:2.0
PRODID:-//STADTKULTUR HAMBURG//kultur-hamburg.de///DE
CALSCALE:GREGORIAN
BEGIN:VEVENT
X-WR-TIMEZONE:Europe/Berlin
DTSTART:20191227T210000
DTEND:20191228T020000
LOCATION:Goldbekhaus \, Moorfuhrtweg 9 \, 22301 Hamburg
DTSTAMP:20260421T214040
SUMMARY:Stomping' at the Goldbekhaus
URL;VALUE=URI:https://www.kultur-hamburg.de/veranstaltungen/stomping'-at-the-goldbekhaus-467275
DESCRIPTION:DIE Swingtanzparty in Winterhude!
UID:cb66739ce0bd6538a4217d8c33ac4ddf@kulturhamburg
END:VEVENT
END:VCALENDAR