BEGIN:VCALENDAR
VERSION:2.0
PRODID:-//STADTKULTUR HAMBURG//kultur-hamburg.de///DE
CALSCALE:GREGORIAN
BEGIN:VEVENT
X-WR-TIMEZONE:Europe/Berlin
DTSTART:20191231T203000
DTEND:20200101T050000
LOCATION:Goldbekhaus \, Moorfuhrtweg 9 \, 22301 Hamburg
DTSTAMP:20260421T152254
SUMMARY:Große Silvesterparty | Zwei Parties - ein Preis!
URL;VALUE=URI:https://www.kultur-hamburg.de/veranstaltungen/grosse-silvesterparty--zwei-parties-ein-preis!-467277
DESCRIPTION:Goodbye 2019 - Welcome 2020!
UID:208e5682136ced4dcf0b94db9d3307c2@kulturhamburg
END:VEVENT
END:VCALENDAR