BEGIN:VCALENDAR
VERSION:2.0
PRODID:-//STADTKULTUR HAMBURG//kultur-hamburg.de///DE
CALSCALE:GREGORIAN
BEGIN:VEVENT
X-WR-TIMEZONE:Europe/Berlin
DTSTART:20190912T200000
DTEND:20190912T230000
LOCATION:Zinnschmelze \, Maurienstraße 19 \, 22305 Hamburg
DTSTAMP:20260423T152243
SUMMARY:Welcome Music Session
URL;VALUE=URI:https://www.kultur-hamburg.de/veranstaltungen/welcome-music-session-467361
DESCRIPTION:Hier ist Fusion angesagt! Interkulutrelle Session
UID:56c6fdaf8553bfbcbcf826d71560db14@kulturhamburg
END:VEVENT
END:VCALENDAR