BEGIN:VCALENDAR
VERSION:2.0
PRODID:-//STADTKULTUR HAMBURG//kultur-hamburg.de///DE
CALSCALE:GREGORIAN
BEGIN:VEVENT
X-WR-TIMEZONE:Europe/Berlin
DTSTART:20191224T000100
DTEND:20200105T000100
LOCATION:Zinnschmelze \, Maurienstraße 19 \, 22305 Hamburg
DTSTAMP:20260422T023006
SUMMARY:Weihnachtspause
URL;VALUE=URI:https://www.kultur-hamburg.de/veranstaltungen/weihnachtspause-471893
DESCRIPTION:Wir wünschen Euch eine frohe Zeit und ein gutes Reinkommen in 2020.
UID:9ce2c243851515fc6cabe98ad31bb5c6@kulturhamburg
END:VEVENT
END:VCALENDAR