BEGIN:VCALENDAR
VERSION:2.0
PRODID:-//STADTKULTUR HAMBURG//kultur-hamburg.de///DE
CALSCALE:GREGORIAN
BEGIN:VEVENT
X-WR-TIMEZONE:Europe/Berlin
DTSTART:20191221T163000
DTEND:20191221T183000
LOCATION:Theaterdeck in der Zinnschmelze \, Maurienstr. 19 \, 22305 Hamburg
DTSTAMP:20260422T072826
SUMMARY:Robbi Tobbi und das Fliewatüüt
URL;VALUE=URI:https://www.kultur-hamburg.de/veranstaltungen/robbi-tobbi-und-das-fliewatueuet-473164
DESCRIPTION:Kommt mit auf diese unglaubliche Reise um die ganze Welt. Ein Abenteuer für die ganze Familie.
UID:983b139ef121994514ef661417bafa0f@kulturhamburg
END:VEVENT
END:VCALENDAR