BEGIN:VCALENDAR
VERSION:2.0
PRODID:-//STADTKULTUR HAMBURG//kultur-hamburg.de///DE
CALSCALE:GREGORIAN
BEGIN:VEVENT
X-WR-TIMEZONE:Europe/Berlin
DTSTART:20191222T163000
DTEND:20191222T183000
LOCATION:Theaterdeck in der Zinnschmelze \, Maurienstr. 19 \, 22305 Hamburg
DTSTAMP:20260422T055222
SUMMARY:Robbi Tobbi und das Fliewatüüt
URL;VALUE=URI:https://www.kultur-hamburg.de/veranstaltungen/robbi-tobbi-und-das-fliewatueuet-473168
DESCRIPTION:Kommt mit auf diese unglaubliche Reise um die ganze Welt. Ein Abenteuer für die ganze Familie.
UID:8d890bd15fb94d4f09443f4509fda663@kulturhamburg
END:VEVENT
END:VCALENDAR