BEGIN:VCALENDAR
VERSION:2.0
PRODID:-//STADTKULTUR HAMBURG//kultur-hamburg.de///DE
CALSCALE:GREGORIAN
BEGIN:VEVENT
X-WR-TIMEZONE:Europe/Berlin
DTSTART:20191221T140000
DTEND:20191221T160000
LOCATION:Theaterdeck in der Zinnschmelze \, Maurienstr. 19 \, 22305 Hamburg
DTSTAMP:20260422T072807
SUMMARY:Robbi Tobbi und das Fliewatüüt
URL;VALUE=URI:https://www.kultur-hamburg.de/veranstaltungen/robbi-tobbi-und-das-fliewatueuet-473175
DESCRIPTION:Kommt mit auf diese unglaubliche Reise um die ganze Welt. Ein Abenteuer für die ganze Familie.
UID:2c48706f8393288c3442a5b0f0f6179a@kulturhamburg
END:VEVENT
END:VCALENDAR