BEGIN:VCALENDAR
VERSION:2.0
PRODID:-//STADTKULTUR HAMBURG//kultur-hamburg.de///DE
CALSCALE:GREGORIAN
BEGIN:VEVENT
X-WR-TIMEZONE:Europe/Berlin
DTSTART:20191222T140000
DTEND:20191222T160000
LOCATION:Theaterdeck in der Zinnschmelze \, Maurienstr. 19 \, 22305 Hamburg
DTSTAMP:20260422T055222
SUMMARY:Robbi Tobbi und das Fliewatüüt
URL;VALUE=URI:https://www.kultur-hamburg.de/veranstaltungen/robbi-tobbi-und-das-fliewatueuet-473176
DESCRIPTION:Kommt mit auf diese unglaubliche Reise um die ganze Welt. Ein Abenteuer für die ganze Familie.
UID:c18cc36abd25017be90eafe15b13197c@kulturhamburg
END:VEVENT
END:VCALENDAR