BEGIN:VCALENDAR
VERSION:2.0
PRODID:-//STADTKULTUR HAMBURG//kultur-hamburg.de///DE
CALSCALE:GREGORIAN
BEGIN:VEVENT
X-WR-TIMEZONE:Europe/Berlin
DTSTART:20191223T140000
DTEND:20191223T160000
LOCATION:Theaterdeck in der Zinnschmelze \, Maurienstr. 19 \, 22305 Hamburg
DTSTAMP:20260422T041841
SUMMARY:Robbi Tobbi und das Fliewatüüt
URL;VALUE=URI:https://www.kultur-hamburg.de/veranstaltungen/robbi-tobbi-und-das-fliewatueuet-473177
DESCRIPTION:Kommt mit auf diese unglaubliche Reise um die ganze Welt. Ein Abenteuer für die ganze Familie.
UID:2f607ec9b216c52b3985c7d13a5acdb1@kulturhamburg
END:VEVENT
END:VCALENDAR