BEGIN:VCALENDAR
VERSION:2.0
PRODID:-//STADTKULTUR HAMBURG//kultur-hamburg.de///DE
CALSCALE:GREGORIAN
BEGIN:VEVENT
X-WR-TIMEZONE:Europe/Berlin
DTSTART:20191221T150000
DTEND:20191221T160000
LOCATION:Jenisch Haus \, Baron-Voght-Str. 50 \, 22609 Hamburg
DTSTAMP:20260422T072807
SUMMARY:Marionettentheater: Der gestiefelte Kater
URL;VALUE=URI:https://www.kultur-hamburg.de/veranstaltungen/marionettentheater-der-gestiefelte-kater-473577
DESCRIPTION:
UID:c38dcda12e414082270a9420cf9fa07c@kulturhamburg
END:VEVENT
END:VCALENDAR