BEGIN:VCALENDAR
VERSION:2.0
PRODID:-//STADTKULTUR HAMBURG//kultur-hamburg.de///DE
CALSCALE:GREGORIAN
BEGIN:VEVENT
X-WR-TIMEZONE:Europe/Berlin
DTSTART:20191222T150000
DTEND:20191222T160000
LOCATION:Jenisch Haus \, Baron-Voght-Str. 50 \, 22609 Hamburg
DTSTAMP:20260422T055239
SUMMARY:Marionettentheater: Der gestiefelte Kater
URL;VALUE=URI:https://www.kultur-hamburg.de/veranstaltungen/marionettentheater-der-gestiefelte-kater-473578
DESCRIPTION:
UID:c434ac1a7017fd72f24dd00183bd922f@kulturhamburg
END:VEVENT
END:VCALENDAR