BEGIN:VCALENDAR
VERSION:2.0
PRODID:-//STADTKULTUR HAMBURG//kultur-hamburg.de///DE
CALSCALE:GREGORIAN
BEGIN:VEVENT
X-WR-TIMEZONE:Europe/Berlin
DTSTART:20191227T150000
DTEND:20191227T160000
LOCATION:Jenisch Haus \, Baron-Voght-Str. 50 \, 22609 Hamburg
DTSTAMP:20260421T213920
SUMMARY:Marionettentheater: Der gestiefelte Kater
URL;VALUE=URI:https://www.kultur-hamburg.de/veranstaltungen/marionettentheater-der-gestiefelte-kater-473579
DESCRIPTION:
UID:6728b8b326edd37d8e12dad446367007@kulturhamburg
END:VEVENT
END:VCALENDAR