BEGIN:VCALENDAR
VERSION:2.0
PRODID:-//STADTKULTUR HAMBURG//kultur-hamburg.de///DE
CALSCALE:GREGORIAN
BEGIN:VEVENT
X-WR-TIMEZONE:Europe/Berlin
DTSTART:20191228T150000
DTEND:20191228T160000
LOCATION:Jenisch Haus \, Baron-Voght-Str. 50 \, 22609 Hamburg
DTSTAMP:20260421T200203
SUMMARY:Marionettentheater: Der gestiefelte Kater
URL;VALUE=URI:https://www.kultur-hamburg.de/veranstaltungen/marionettentheater-der-gestiefelte-kater-473580
DESCRIPTION:
UID:29602f1853988bf9b630072548697740@kulturhamburg
END:VEVENT
END:VCALENDAR