BEGIN:VCALENDAR
VERSION:2.0
PRODID:-//STADTKULTUR HAMBURG//kultur-hamburg.de///DE
CALSCALE:GREGORIAN
BEGIN:VEVENT
X-WR-TIMEZONE:Europe/Berlin
DTSTART:20191229T150000
DTEND:20191229T160000
LOCATION:Jenisch Haus \, Baron-Voght-Str. 50 \, 22609 Hamburg
DTSTAMP:20260421T182607
SUMMARY:Marionettentheater: Der gestiefelte Kater
URL;VALUE=URI:https://www.kultur-hamburg.de/veranstaltungen/marionettentheater-der-gestiefelte-kater-473581
DESCRIPTION:
UID:82711a560c22d8a19246fcee0af61dc6@kulturhamburg
END:VEVENT
END:VCALENDAR