BEGIN:VCALENDAR
VERSION:2.0
PRODID:-//STADTKULTUR HAMBURG//kultur-hamburg.de///DE
CALSCALE:GREGORIAN
BEGIN:VEVENT
X-WR-TIMEZONE:Europe/Berlin
DTSTART:20191228T230000
DTEND:20191229T010000
LOCATION:LOLA Kulturzentrum \, Lohbrügger Landstraße 8 \, 21031 Hamburg
DTSTAMP:20260421T200202
SUMMARY:Beats United - Bye Bye 2019
URL;VALUE=URI:https://www.kultur-hamburg.de/veranstaltungen/beats-united-bye-bye-2019-474959
DESCRIPTION:Jahresabschluss-Party mit DJ Terry
UID:718804b6103ce4e899bd42d6a4be81b6@kulturhamburg
END:VEVENT
END:VCALENDAR