BEGIN:VCALENDAR
VERSION:2.0
PRODID:-//STADTKULTUR HAMBURG//kultur-hamburg.de///DE
CALSCALE:GREGORIAN
BEGIN:VEVENT
X-WR-TIMEZONE:Europe/Berlin
DTSTART:20191218T210000
DTEND:20191218T230000
LOCATION:The Old Dubliner - Irish Pub \, Neue Straße 56-58 \,  Hamburg
DTSTAMP:20260422T121053
SUMMARY:Anthony Caligagan
URL;VALUE=URI:https://www.kultur-hamburg.de/veranstaltungen/anthony-caligagan-475674
DESCRIPTION:Rock-Pop-Reggae


Anthony  Caligagan ist Singer & Songwriter, stammt ursprünglich aus  Schweden, spr...
UID:f8caf372eb7e4453467b5fb055461c44@kulturhamburg
END:VEVENT
END:VCALENDAR