BEGIN:VCALENDAR
VERSION:2.0
PRODID:-//STADTKULTUR HAMBURG//kultur-hamburg.de///DE
CALSCALE:GREGORIAN
BEGIN:VEVENT
X-WR-TIMEZONE:Europe/Berlin
DTSTART:20191222T170000
DTEND:20191222T190000
LOCATION:Moorburger Art e.V. \, Moorburger Elbdeich 263 \, 21079 Hamburg
DTSTAMP:20260422T055050
SUMMARY:Adventssingen mit Johannes Kirchberg in Moorburg
URL;VALUE=URI:https://www.kultur-hamburg.de/veranstaltungen/adventssingen-mit-johannes-kirchberg-in-moorburg-476463
DESCRIPTION:Besinnlich bis heiter - und alle machen mit!

Besinnlich bis heiter möchten wir 2019 schon am Sonnta...
UID:c16c79a652e65eb6cdbb9c0e7040625d@kulturhamburg
END:VEVENT
END:VCALENDAR