BEGIN:VCALENDAR
VERSION:2.0
PRODID:-//STADTKULTUR HAMBURG//kultur-hamburg.de///DE
CALSCALE:GREGORIAN
BEGIN:VEVENT
X-WR-TIMEZONE:Europe/Berlin
DTSTART:20111208T180000
DTEND:20111208T193000
LOCATION:Kulturladen St.Georg e.V. \, Alexanderstr.16 \, 20099 Hamburg
DTSTAMP:20260422T204627
SUMMARY:Spanisch Anfänger 2
URL;VALUE=URI:https://www.kultur-hamburg.de/kurse_workshops/spanisch-anfaenger-2-47896
DESCRIPTION:Spanisch Anfänger 2
UID:e25bd810f80f2160968e30f5c9a312cc@kulturhamburg
END:VEVENT
END:VCALENDAR