BEGIN:VCALENDAR
VERSION:2.0
PRODID:-//STADTKULTUR HAMBURG//kultur-hamburg.de///DE
CALSCALE:GREGORIAN
BEGIN:VEVENT
X-WR-TIMEZONE:Europe/Berlin
DTSTART:20120126T180000
DTEND:20120126T193000
LOCATION:Kulturladen St.Georg e.V. \, Alexanderstr.16 \, 20099 Hamburg
DTSTAMP:20260422T192904
SUMMARY:Spanisch Anfänger 2
URL;VALUE=URI:https://www.kultur-hamburg.de/kurse_workshops/spanisch-anfaenger-2-47903
DESCRIPTION:Spanisch Anfänger 2
UID:923814ee265ba8d01bd4f8049e3e4d62@kulturhamburg
END:VEVENT
END:VCALENDAR