BEGIN:VCALENDAR
VERSION:2.0
PRODID:-//STADTKULTUR HAMBURG//kultur-hamburg.de///DE
CALSCALE:GREGORIAN
BEGIN:VEVENT
X-WR-TIMEZONE:Europe/Berlin
DTSTART:20120202T180000
DTEND:20120202T193000
LOCATION:Kulturladen St.Georg e.V. \, Alexanderstr.16 \, 20099 Hamburg
DTSTAMP:20260422T211151
SUMMARY:Spanisch Anfänger 2
URL;VALUE=URI:https://www.kultur-hamburg.de/kurse_workshops/spanisch-anfaenger-2-47904
DESCRIPTION:Spanisch Anfänger 2
UID:8d2041bfd8c74c14f1ee1c31bb80d620@kulturhamburg
END:VEVENT
END:VCALENDAR