BEGIN:VCALENDAR
VERSION:2.0
PRODID:-//STADTKULTUR HAMBURG//kultur-hamburg.de///DE
CALSCALE:GREGORIAN
BEGIN:VEVENT
X-WR-TIMEZONE:Europe/Berlin
DTSTART:20120405T180000
DTEND:20120405T193000
LOCATION:Kulturladen St.Georg e.V. \, Alexanderstr.16 \, 20099 Hamburg
DTSTAMP:20260423T114945
SUMMARY:Spanisch Anfänger 2
URL;VALUE=URI:https://www.kultur-hamburg.de/kurse_workshops/spanisch-anfaenger-2-47913
DESCRIPTION:Spanisch Anfänger 2
UID:de442773648d094f70027808bfccc3df@kulturhamburg
END:VEVENT
END:VCALENDAR