BEGIN:VCALENDAR
VERSION:2.0
PRODID:-//STADTKULTUR HAMBURG//kultur-hamburg.de///DE
CALSCALE:GREGORIAN
BEGIN:VEVENT
X-WR-TIMEZONE:Europe/Berlin
DTSTART:20120712T180000
DTEND:20120712T193000
LOCATION:Kulturladen St.Georg e.V. \, Alexanderstr.16 \, 20099 Hamburg
DTSTAMP:20260424T043420
SUMMARY:Spanisch Anfänger 2
URL;VALUE=URI:https://www.kultur-hamburg.de/kurse_workshops/spanisch-anfaenger-2-47927
DESCRIPTION:Spanisch Anfänger 2
UID:41b8d1af7299170d0c1c619b94b63155@kulturhamburg
END:VEVENT
END:VCALENDAR