BEGIN:VCALENDAR
VERSION:2.0
PRODID:-//STADTKULTUR HAMBURG//kultur-hamburg.de///DE
CALSCALE:GREGORIAN
BEGIN:VEVENT
X-WR-TIMEZONE:Europe/Berlin
DTSTART:20111106T110000
DTEND:20111106T170000
LOCATION:TASK Schauspielschule für Kinder und Jugendliche \, Stresemannstraße 163 (Neue Flora) \, 22769 Hamburg
DTSTAMP:20260423T052953
SUMMARY:Moderieren wie die Profis! Workshop ab 12 J.
URL;VALUE=URI:https://www.kultur-hamburg.de/kurse_workshops/moderieren-wie-die-profis!-workshop-ab-12-j.-49851
DESCRIPTION:Selbstbewusst Themen präsentieren - vor Publikum und vor der Kamera. Dieser Workshop zeigt wie`s geht.
UID:115894b22abf63d992f250fd3d849284@kulturhamburg
END:VEVENT
END:VCALENDAR