BEGIN:VCALENDAR
VERSION:2.0
PRODID:-//STADTKULTUR HAMBURG//kultur-hamburg.de///DE
CALSCALE:GREGORIAN
BEGIN:VEVENT
X-WR-TIMEZONE:Europe/Berlin
DTSTART:20111113T110000
DTEND:20111113T170000
LOCATION:TASK Schauspielschule für Kinder und Jugendliche \, Stresemannstraße 163 (Neue Flora) \, 22769 Hamburg
DTSTAMP:20260423T033810
SUMMARY:Dein Weihnachts-Werbespot! Schauspiel-Workshops ab 8 J.
URL;VALUE=URI:https://www.kultur-hamburg.de/kurse_workshops/dein-weihnachts-werbespot!-schauspiel-workshops-ab-8-j.-49853
DESCRIPTION:Die Teilnehmer machen für ein Produkt Werbung. Für welches? Das entscheidet sie selbst
UID:32e9c7960b13a8397fd391d7a707d7d5@kulturhamburg
END:VEVENT
END:VCALENDAR