BEGIN:VCALENDAR
VERSION:2.0
PRODID:-//STADTKULTUR HAMBURG//kultur-hamburg.de///DE
CALSCALE:GREGORIAN
BEGIN:VEVENT
X-WR-TIMEZONE:Europe/Berlin
DTSTART:20111127T110000
DTEND:20111127T150000
LOCATION:TASK Schauspielschule für Kinder und Jugendliche \, Stresemannstraße 163 (Neue Flora) \, 22769 Hamburg
DTSTAMP:20260423T001944
SUMMARY:Wir drehen einen Weihnachtsfilm! Action für Minis (6 - 10)
URL;VALUE=URI:https://www.kultur-hamburg.de/kurse_workshops/wir-drehen-einen-weihnachtsfilm!-action-fuer-minis-6-10-49856
DESCRIPTION:Film ab! Dieser Workshop bietet Einblicke in die Welt des Films. Ideen entwickeln, Szenen spielen, drehen und auf DVD aufnehmen.
UID:9b7ae3dce122104187cddee1cbc6700d@kulturhamburg
END:VEVENT
END:VCALENDAR