BEGIN:VCALENDAR
VERSION:2.0
PRODID:-//STADTKULTUR HAMBURG//kultur-hamburg.de///DE
CALSCALE:GREGORIAN
BEGIN:VEVENT
X-WR-TIMEZONE:Europe/Berlin
DTSTART:20120122T110000
DTEND:20120123T170000
LOCATION:TASK Schauspielschule für Kinder und Jugendliche \, Stresemannstraße 163 (Neue Flora) \, 22769 Hamburg
DTSTAMP:20260422T174018
SUMMARY:Casting und Lampenfieber - Workshops ab 9 J.
URL;VALUE=URI:https://www.kultur-hamburg.de/kurse_workshops/casting-und-lampenfieber-workshops-ab-9-j.-49860
DESCRIPTION:Wie geht man mit Herzklopfen um? Ob Casting oder Referat in der Schule - hier gibt's Tipps gegen 'weiche Knie'.
UID:6e8331bb4611784d052537b871310b29@kulturhamburg
END:VEVENT
END:VCALENDAR