BEGIN:VCALENDAR
VERSION:2.0
PRODID:-//STADTKULTUR HAMBURG//kultur-hamburg.de///DE
CALSCALE:GREGORIAN
BEGIN:VEVENT
X-WR-TIMEZONE:Europe/Berlin
DTSTART:20190820T200000
DTEND:20190820T230000
LOCATION:Bramfelder Kulturladen e. V. - BRAKULA \, Bramfelder Chaussee 265 \, 22177 Hamburg
DTSTAMP:20260420T003719
SUMMARY:Jazz-Club
URL;VALUE=URI:https://www.kultur-hamburg.de/veranstaltungen/jazz-club-536565
DESCRIPTION:
UID:f401e20d2628db6434dbc733f443d7d0@kulturhamburg
END:VEVENT
END:VCALENDAR