BEGIN:VCALENDAR
VERSION:2.0
PRODID:-//STADTKULTUR HAMBURG//kultur-hamburg.de///DE
CALSCALE:GREGORIAN
BEGIN:VEVENT
X-WR-TIMEZONE:Europe/Berlin
DTSTART:20190917T200000
DTEND:20190917T230000
LOCATION:Bramfelder Kulturladen e. V. - BRAKULA \, Bramfelder Chaussee 265 \, 22177 Hamburg
DTSTAMP:20260423T230302
SUMMARY:Jazz-Club
URL;VALUE=URI:https://www.kultur-hamburg.de/veranstaltungen/jazz-club-536566
DESCRIPTION:
UID:b9d0e4ab7e82e941c74d7a8761fb3a8e@kulturhamburg
END:VEVENT
END:VCALENDAR