BEGIN:VCALENDAR
VERSION:2.0
PRODID:-//STADTKULTUR HAMBURG//kultur-hamburg.de///DE
CALSCALE:GREGORIAN
BEGIN:VEVENT
X-WR-TIMEZONE:Europe/Berlin
DTSTART:20111203T100000
DTEND:20111203T140000
LOCATION:Ev. Familienbildung Eppendorf \, Loogeplatz 14/16 \, 20249 Hamburg
DTSTAMP:20260422T222514
SUMMARY:Wer will fleißige Handwerker sehen
URL;VALUE=URI:https://www.kultur-hamburg.de/kurse_workshops/wer-will-fleissige-handwerker-sehen-55842
DESCRIPTION:
UID:9e0bcb423c506dc04e17012a129f984b@kulturhamburg
END:VEVENT
END:VCALENDAR