BEGIN:VCALENDAR
VERSION:2.0
PRODID:-//STADTKULTUR HAMBURG//kultur-hamburg.de///DE
CALSCALE:GREGORIAN
BEGIN:VEVENT
X-WR-TIMEZONE:Europe/Berlin
DTSTART:20110920T200000
DTEND:20110920T213000
LOCATION:Bramfelder Kulturladen e. V. - BRAKULA \, Bramfelder Chaussee 265 \, 22177 Hamburg
DTSTAMP:20260425T153858
SUMMARY:Vocal Basics
URL;VALUE=URI:https://www.kultur-hamburg.de/kurse_workshops/vocal-basics-56051
DESCRIPTION:
UID:f967696ec996753aba26c2f129702f51@kulturhamburg
END:VEVENT
END:VCALENDAR