BEGIN:VCALENDAR
VERSION:2.0
PRODID:-//STADTKULTUR HAMBURG//kultur-hamburg.de///DE
CALSCALE:GREGORIAN
BEGIN:VEVENT
X-WR-TIMEZONE:Europe/Berlin
DTSTART:20190908T120000
DTEND:20190908T150000
LOCATION:Bramfelder Kulturladen e. V. - BRAKULA \, Bramfelder Chaussee 265 \, 22177 Hamburg
DTSTAMP:20260423T085924
SUMMARY:Frauenklamottenflohmarkt
URL;VALUE=URI:https://www.kultur-hamburg.de/veranstaltungen/frauenklamottenflohmarkt-562426
DESCRIPTION:
UID:35f0f89ab0c4520e24fb2a71a21998c4@kulturhamburg
END:VEVENT
END:VCALENDAR