BEGIN:VCALENDAR
VERSION:2.0
PRODID:-//STADTKULTUR HAMBURG//kultur-hamburg.de///DE
CALSCALE:GREGORIAN
BEGIN:VEVENT
X-WR-TIMEZONE:Europe/Berlin
DTSTART:20220613T180000
DTEND:20220613T184500
LOCATION:Horner Freiheit \, Am Gojenboom 46 \, 22111 Hamburg
DTSTAMP:20260422T041719
SUMMARY:Ukulele für Anfänger/-innen
URL;VALUE=URI:https://www.kultur-hamburg.de/kurse_workshops/ukulele-fuer-anfaenger-innen-579121
DESCRIPTION:Wenn ein Saiteninstrument in den letzten Jahren ein echtes Revival erlebte, dann die Ukulele. Die ersten Griffe lassen sich in kürzester Zeit leicht erlernen, aber auch wahre Virtuosen toben sich auf dem 'hüpfenden Floh' aus, der mehr ist als nur eine Spielzeug-Gitarre. Dieser Kurs wendet sich an Anfänger/-innen, Notenkenntnisse sind nicht nötig, Sie lernen anhand populärer Songs und leichter Übungsstücke, wobei, wenn möglich, auch auf spezielle Song- und Musikvorschläge eingegangen werden kann. Der Kurs vermittelt die gebräuchlichen Akkorde und Anschlagtechniken, geeignet für jeden Ukulele-Typ. Am Ende des Kurses werden wir alle gemeinsam Songs und Melodien spielen können.
UID:233295faaf30a9f00b569d91ab335387@kulturhamburg
END:VEVENT
END:VCALENDAR