BEGIN:VCALENDAR
VERSION:2.0
PRODID:-//STADTKULTUR HAMBURG//kultur-hamburg.de///DE
CALSCALE:GREGORIAN
BEGIN:VEVENT
X-WR-TIMEZONE:Europe/Berlin
DTSTART:20120314T170000
DTEND:20120314T190000
LOCATION:MOTTE VERANSTALTUNGEN \, Rothestraße 48 \, 22765 Hamburg
DTSTAMP:20260423T072020
SUMMARY:Mach doch mal Theater!
URL;VALUE=URI:https://www.kultur-hamburg.de/kurse_workshops/mach-doch-mal-theater!-59238
DESCRIPTION:
UID:e8c3b3f75a5bcd1bfdf20d6da07a0b8f@kulturhamburg
END:VEVENT
END:VCALENDAR