BEGIN:VCALENDAR
VERSION:2.0
PRODID:-//STADTKULTUR HAMBURG//kultur-hamburg.de///DE
CALSCALE:GREGORIAN
BEGIN:VEVENT
X-WR-TIMEZONE:Europe/Berlin
DTSTART:20120919T170000
DTEND:20120919T190000
LOCATION:MOTTE VERANSTALTUNGEN \, Rothestraße 48 \, 22765 Hamburg
DTSTAMP:20260423T121526
SUMMARY:Mach doch mal Theater!
URL;VALUE=URI:https://www.kultur-hamburg.de/kurse_workshops/mach-doch-mal-theater!-59265
DESCRIPTION:
UID:b19377a8baa9b602d9a1145b75d73dc7@kulturhamburg
END:VEVENT
END:VCALENDAR